BEGIN:VCALENDAR
VERSION:2.0
PRODID:-//ChamberMaster//Event Calendar 2.0//EN
METHOD:PUBLISH
X-PUBLISHED-TTL:P3D
REFRESH-INTERVAL:P3D
CALSCALE:GREGORIAN
BEGIN:VEVENT
DTSTART:20200513T160000Z
DTEND:20200513T170000Z
X-MICROSOFT-CDO-ALLDAYEVENT:FALSE
SUMMARY:Webinar Wednesday: Digital Marketing
DESCRIPTION:Learn how to make the most of your social media and digital marketing. Determine the best methods to reach your target audience and expand your online footprint. Todd Anduze with UWG Small Business Development Center will show you how! \n\n \n\nIn this class\, you will learn practical tips and other resources you can implement now to grow your business.\n\n \n\nKey Elements of Training:\n\n	The best social media and digital platforms to use to reach your target market\n	Types of content marketing\n	Free and budget-friendly apps and how to use them\n	Understanding your analytics\n\n  \n\nThis is a NO COST webinar\; registration is required. Webinar link will be emailed the day before the class.
X-ALT-DESC;FMTTYPE=text/html:<span style="color:#000000\;"><span style="font-family:arial\,sans-serif\;"><span style="font-size:10.5pt\;">Learn how to make the most of your social media and digital marketing. <span style="font-family:arial\;">Determine the best methods to reach your target audience and expand your online footprint. Todd Anduze with&nbsp\;</span></span></span><span style="font-family:arial\;"><span style="font-size:11.0pt\;">UWG Small Business Development Center will show you how!&nbsp\;</span><br />\n&nbsp\;<br />\n<span style="font-size:10.5pt\;">In this class\, you will learn practical tips and other resources you can implement now to grow your business.</span><br />\n&nbsp\;<br />\n<span style="font-size:10.5pt\;">Key Elements of Training:</span></span></span>\n<ul>\n	<li><span style="color:#000000\;"><span style="font-family:arial\;"><span style="font-size:10.5pt\;">The best social media and digital platforms to use to reach your target market</span></span></span></li>\n	<li><span style="color:#000000\;"><span style="font-family:arial\;"><span style="font-size:10.5pt\;">Types of content marketing</span></span></span></li>\n	<li><span style="color:#000000\;"><span style="font-family:arial\;"><span style="font-size:10.5pt\;">Free and budget-friendly apps and how to use them</span></span></span></li>\n	<li><span style="color:#000000\;"><span style="font-family:arial\;"><span style="font-size:10.5pt\;">Understanding your analytics</span></span></span></li>\n</ul>\n<span style="color:#000000\;"><span style="font-family:arial\;"> &nbsp\;<br />\n<span style="font-size:10.5pt\;">This is a NO COST webinar\; registration is required. Webinar link will be emailed the day before the class.</span></span></span>
LOCATION:Link to register: https://www.georgiasbdc.org/training/
UID:e.184.11424
SEQUENCE:3
DTSTAMP:20260425T225803Z
URL:https://business.douglascountygeorgia.com/events/details/webinar-wednesday-digital-marketing-11424
END:VEVENT

END:VCALENDAR
