BEGIN:VCALENDAR
VERSION:2.0
PRODID:-//ChamberMaster//Event Calendar 2.0//EN
METHOD:PUBLISH
X-PUBLISHED-TTL:P3D
REFRESH-INTERVAL:P3D
CALSCALE:GREGORIAN
BEGIN:VEVENT
DTSTART:20200527T140000Z
DTEND:20200527T150000Z
X-MICROSOFT-CDO-ALLDAYEVENT:FALSE
SUMMARY:Webinar Wednesday: LinkedIn Profile & Your Brand
DESCRIPTION:Learn the most effective ways to keep you and your business in front of decision makers and build strong referral networks.  LinkedIn can be your ticket to setting yourself up as the industry leader. Come join Todd Anduze with the Small Business Development Center for a facilitated Q&A on some tips to make your LinkedIn Profile match your brand.
X-ALT-DESC;FMTTYPE=text/html:Learn the most effective ways to keep you and your business in front of decision makers and build strong referral networks.&nbsp\; LinkedIn can be your ticket to setting yourself up as the industry leader. Come join Todd Anduze with the Small Business Development Center for a facilitated Q&amp\;A on some tips to make your LinkedIn Profile match your brand.
LOCATION:Zoom link is sent upon registration.
UID:e.184.11428
SEQUENCE:3
DTSTAMP:20260425T225701Z
URL:https://business.douglascountygeorgia.com/events/details/webinar-wednesday-linkedin-profile-your-brand-11428
END:VEVENT

END:VCALENDAR
