BEGIN:VCALENDAR
VERSION:2.0
PRODID:-//ChamberMaster//Event Calendar 2.0//EN
METHOD:PUBLISH
X-PUBLISHED-TTL:P3D
REFRESH-INTERVAL:P3D
CALSCALE:GREGORIAN
BEGIN:VEVENT
DTSTART:20200320T143000Z
DTEND:20200320T193000Z
X-MICROSOFT-CDO-ALLDAYEVENT:FALSE
SUMMARY:WellStar Douglas Hospital Emergency Need Blood Drives
DESCRIPTION:Please schedule an appointment to donate at one of our WellStar Douglas Hospital Blood Drives. We will be open on both March 20th and March 27th from 10:30 am - 3:30 pm in Building B\, the Sycamore Room. This room is located next door to the Outpatient Lab.
X-ALT-DESC;FMTTYPE=text/html:Please schedule an appointment to donate at one of our WellStar Douglas Hospital Blood Drives. We will be open on both March 20th and March 27th from 10:30 am - 3:30 pm in Building B\, the Sycamore Room. This room is located next door to the Outpatient Lab.<br />\n<br />\n&nbsp\;
LOCATION:WellStar Douglas Hospital Building B\, the Sycamore Room
UID:e.184.11339
SEQUENCE:3
DTSTAMP:20260426T020428Z
URL:https://business.douglascountygeorgia.com/events/details/wellstar-douglas-hospital-emergency-need-blood-drives-11339
END:VEVENT

END:VCALENDAR
